BEGIN:VCALENDAR
VERSION:2.0
PRODID:-//85.13.142.141//NONSGML kigkonsult.se iCalcreator 2.20//
CALSCALE:GREGORIAN
METHOD:PUBLISH
X-WR-TIMEZONE:Europe/Vienna
BEGIN:VEVENT
UID:event12@Narrhalla Achern
DTSTAMP:20260425T113311Z
CATEGORIES:Veranstaltungen
DESCRIPTION:schmutziger Donnerstig 2022\nKategorie: Veranstaltungen\nICS-Li
 nk: https://www.narrhalla-achern.de/narrhalla/index.php?option=com_jem&vie
 w=event&id=12:schmutziger-donnerstig-2022\n
DTSTART;VALUE=DATE:20220224
DTEND;VALUE=DATE:20220225
LOCATION:Achern / Rathausplatz
SUMMARY:schmutziger Donnerstig 2022
URL:https://www.narrhalla-achern.de/narrhalla/index.php?option=com_jem&view
 =event&id=12:schmutziger-donnerstig-2022
END:VEVENT
END:VCALENDAR